BEGIN:VCALENDAR
VERSION:2.0
PRODID:-//ChamberMaster//Event Calendar 2.0//EN
METHOD:PUBLISH
X-PUBLISHED-TTL:P3D
REFRESH-INTERVAL:P3D
CALSCALE:GREGORIAN
BEGIN:VEVENT
DTSTART:20250704T210000Z
DTEND:20250705T030000Z
X-MICROSOFT-CDO-ALLDAYEVENT:FALSE
SUMMARY:2025 July 4th Tractor and Ag Parade & Firework Show
DESCRIPTION:Join us for a celebration of our nation's freedom on Friday\, July 4th\, 2025. Watch the Ag Parade\, enjoy delicious food from local businesses or food trucks\, and more! Fun for all ages! \n\n\n\nFood Truck Lineup\n\nTBD
X-ALT-DESC;FMTTYPE=text/html:Join us for a celebration of our nation&#39\;s freedom on Friday\, July 4th\, 2025. Watch the Ag Parade\, enjoy delicious food from local businesses or food trucks\, and more! Fun for all ages!&nbsp\;<br />\n<br />\n<strong>Food Truck Lineup<br />\nTBD</strong>
LOCATION:The Ag Parade starts on W. King St. and ends at Douglas Park Food trucks and more on Headland's Downtown Square! Firework Show begins at 9:00 pm at Douglas Park.
UID:e.3076.347
SEQUENCE:3
DTSTAMP:20260422T002955Z
URL:https://business.headlandal.org/events/details/2025-july-4th-tractor-and-ag-parade-firework-show-347
END:VEVENT

END:VCALENDAR
