BEGIN:VCALENDAR
VERSION:2.0
PRODID:-//ChamberMaster//Event Calendar 2.0//EN
METHOD:PUBLISH
X-PUBLISHED-TTL:P3D
REFRESH-INTERVAL:P3D
CALSCALE:GREGORIAN
BEGIN:VEVENT
DTSTART;VALUE=DATE:20220225
DTEND;VALUE=DATE:20220323
TRANSP:TRANSPARENT
X-MICROSOFT-CDO-ALLDAYEVENT:TRUE
SUMMARY:Business After Hours
DESCRIPTION:Our Business After Hours gives you the chance to visit a Chamber member business and network with other business leaders out of the office. You will have the opportunity to network with other members\, exchange business cards\, make new business contacts\, win door prizes\, and enjoy refreshments.
X-ALT-DESC;FMTTYPE=text/html:Our Business After Hours gives you the chance to visit a Chamber member business and network with other business leaders out of the office. You will have the opportunity to network with other members\, exchange business cards\, make new business contacts\, win door prizes\, and enjoy refreshments.
LOCATION:The Stockyard Headland
UID:e.3076.140
SEQUENCE:3
DTSTAMP:20260423T024203Z
URL:https://business.headlandal.org/events/details/business-after-hours-140
END:VEVENT

END:VCALENDAR
