BEGIN:VCALENDAR
VERSION:2.0
PRODID:-//ChamberMaster//Event Calendar 2.0//EN
METHOD:PUBLISH
X-PUBLISHED-TTL:P3D
REFRESH-INTERVAL:P3D
CALSCALE:GREGORIAN
BEGIN:VEVENT
DTSTART:20240704T210000Z
DTEND:20240705T030000Z
X-MICROSOFT-CDO-ALLDAYEVENT:FALSE
SUMMARY:July 4th Tractor and Ag Parade & Firework Show 2024
DESCRIPTION:Join us for a celebration of our nation's freedom on Thursday\, July 4th\, 2024. Watch the Ag Parade\, enjoy delicious food from local businesses or food trucks\, and more! Fun for all ages! \n\n\n\nFood Truck Lineup\n\n	Missy Mae's Snack Shack\n	Nikki's Lemonee Lemonades & More\n	Raley's Famous Boiled Peanuts\n	Summertime Snow\n	Tikiz Shaved Ice
X-ALT-DESC;FMTTYPE=text/html:Join us for a celebration of our nation&#39\;s freedom on Thursday\, July 4th\, 2024. Watch the Ag Parade\, enjoy delicious food from local businesses or food trucks\, and more! Fun for all ages!&nbsp\;<br />\n<br />\n<strong>Food Truck Lineup</strong>\n<ul>\n	<li>Missy Mae&#39\;s Snack Shack</li>\n	<li>Nikki&#39\;s Lemonee Lemonades &amp\; More</li>\n	<li>Raley&#39\;s Famous Boiled Peanuts</li>\n	<li>Summertime Snow</li>\n	<li>Tikiz Shaved Ice</li>\n</ul>\n
LOCATION:The Ag Parade starts on W. King St. and ends at Douglas Park Food trucks and more on Headland's Downtown Square! Firework Show begins at 9:00 pm at Douglas Park.
UID:e.3076.175
SEQUENCE:3
DTSTAMP:20260422T180759Z
URL:https://business.headlandal.org/events/details/july-4th-tractor-and-ag-parade-firework-show-2024-175
END:VEVENT

END:VCALENDAR
