BEGIN:VCALENDAR
VERSION:2.0
PRODID:-//ChamberMaster//Event Calendar 2.0//EN
METHOD:PUBLISH
X-PUBLISHED-TTL:P3D
REFRESH-INTERVAL:P3D
CALSCALE:GREGORIAN
BEGIN:VEVENT
DTSTART:20251130T190000Z
DTEND:20251130T230000Z
X-MICROSOFT-CDO-ALLDAYEVENT:FALSE
SUMMARY:Landmark Park’s Decorating Workshop
DESCRIPTION:Cost: Free\n\nSpread some holiday cheer at Landmark Park at the Holiday Decorating Workshop. Create wreaths\, garlands and swags out of natural materials and decorate Landmark Park for Victorian Christmas and make some decorations to take home! Refreshments will be provided. This event is supported by the Wiregrass Master Gardeners. Admission is free. Space is limited and registration is required to ensure adequate supplies.
X-ALT-DESC;FMTTYPE=text/html:<div>Cost: Free</div>\n\n<div>Spread some holiday cheer at Landmark Park at the Holiday Decorating Workshop. Create wreaths\, garlands and swags out of natural materials and decorate Landmark Park for Victorian Christmas and make some decorations to take home! Refreshments will be provided. This event is supported by the Wiregrass Master Gardeners. Admission is free. Space is limited and registration is required to ensure adequate supplies.</div>\n
LOCATION:Landmark Park
UID:e.3076.526
SEQUENCE:3
DTSTAMP:20260420T091348Z
URL:https://business.headlandal.org/events/details/landmark-park-s-decorating-workshop-526
END:VEVENT

END:VCALENDAR
