BEGIN:VCALENDAR
VERSION:2.0
PRODID:-//ChamberMaster//Event Calendar 2.0//EN
METHOD:PUBLISH
X-PUBLISHED-TTL:P3D
REFRESH-INTERVAL:P3D
CALSCALE:GREGORIAN
BEGIN:VEVENT
DTSTART:20220407T223000Z
DTEND:20220409T190000Z
X-MICROSOFT-CDO-ALLDAYEVENT:FALSE
SUMMARY:Wiregrass Turkey Rodeo
DESCRIPTION:Join us for the first Wiregrass Turkey Rodeo brought to you by the Headland Area Chamber of Commerce and Southern Outdoor Sports! The Calcutta will be on the Headland Downtown Square on April 7th. All teams must have one person present to register and receive competition packet at Calcutta. Teams are limited to two people. Hunt days will be April 8-9th and scoring will take place at Southern Outdoor Sports.\n\nDetails:\n\n	Check-in will take place on the Headland Square at 5:30   6:30 p.m. on Thursday April 7\, 2022. \n	At least one team member is required to be present for check-in and Calcutta Thursday night. \n	Additional competition categories will be open for registration at check-in.\n	Entertainment District Rules will be in place Thursday evening if teams would like to patron one of our local establishments.\n	Calcutta will be conducted after check-in dinner on Thursday night. \n	All money (*CASH ONLY*) for Calcutta must be collected at Calcutta (See Rule 10).\n	Event cards will be provided at Calcutta on Thursday night that must be used in video footage at harvest. (See Rule 7)\n	Weigh-In is from 10am-12pm\, 4-6pm on Friday and Saturday from 10am-12pm at Southern Outdoor Sports located at 2126 Hartford Hwy\, Dothan\, AL.\n	Guests are welcome to the Calcutta but must pay $20 for dinner on Thursday night. Please\, let us know before hand of any guest so we can put them on the list and have enough food.\n\nRules: \n\n\n	SAFETY FIRST\n	Each team shall abide by the applicable state laws where hunting is conducted. If determined that a member or team has failed to abide by any law(s) in any aspect\, it shall be at the Committee's discretion on whether to disqualify any member or team.\n	No team shall be allowed to participate in the Tournament if fail to properly register. Failure to properly register will result in automatic disqualification.\n	Each team can hunt on any property (any state) as privileged to do so but may only enter Eastern birds.\n	Weigh-in is from 10am-12pm and 4-6 p.m. sharp on Friday and Saturday 10am-12pm\, April 8-9th\, 2022. NO EXCUSES FOR LATE ENTRY!\n	Only turkeys harvested on Friday and Saturday\, April 8-9\, 2022\, can be entered for the Tournament. Failure to abide by this rule will result in automatic disqualification. The committee holds the right to disqualify any turkey that they have reason to suspect it has been killed previously.\n	A card will be provided at the Check-in Dinner that must be used after killing your bird on hunt days. You must take a short continuous video of you in place\, walking up to your bird on the ground\, putting the card next to the bird with your face in the video. Video footage must also include the beard and spurs. This video must be shown at weigh in to enter your bird. If you cannot provide a video\, then the bird doesn't count. (Video does not have to include the kill shot).\n	Each member is allowed to enter one (1) turkey per day. Turkey must be weighed-in on day of harvest.\n	The Tournament will consist of a 1st Place\, 2nd Place\, and 3rd Place winner depending on the official NWTF scoring system. We will only score the longest strand of the longest beard. Multiple beards will not be scored and multiple spurs on the same leg will not be scored for regular competition places (excludes longest beard\, spur categories). This will help ensure an old mature bird scores higher than a non-typical 2-year-old. Turkeys will be scored as presented. Any feature of a bird harvested not attached cannot be scored. There will be no ties in tournament. Tie breaker will be largest spur. An official NWTF representative will score the birds and determine the winners at weigh-in. All scores are FINAL.\n	Calcutta will be conducted at check-in located on the Square in Downtown Headland on Thursday\, April 7th. Money must be collected on-site (*CASH ONLY*). Failure to pay money on-site will disqualify any person from participating in the Calcutta. Any person not registered in the Tournament may participate in the Calcutta. At registration\, each team will have the buy now option to buy their team for $150 before the Calcutta begins. If a team isn't bought and they win the tournament\, then the winnings will go towards preparation for the next year's tournament. Further details will be announced on site.\n	In the event of a tie in the Calcutta\, the prize shall be evenly distributed between the winning teams.\n	All money for Calcutta must be collected immediately after its conclusion.\n	The tournament committee reserves the right to refuse the right to participate in future events if any team or member violates any of these rules\, meaning then that team or member may not be allowed back for next year's tournament\, at the discretion of the Committee. In addition\, if determined that a member or team has failed to abide by any rules in any aspect\, it shall be at the Committee's discretion on whether to disqualify any member or team at any time.\n	The Committee reserves the right and discretion to apply\, amend\, or execute any of these rules as it deems reasonable and in the best interest of the Tournament.\n	All registration and Calcutta fees are non-refundable.\n	SHOW CLASS! \n	HAVE FUN!
X-ALT-DESC;FMTTYPE=text/html:<span style="font-size:12px\;"><span style="font-family:tahoma\;"><span style="color:#333333\;">Join us for the first Wiregrass Turkey Rodeo brought to you by the Headland Area Chamber of Commerce and Southern Outdoor Sports! The Calcutta will be on the Headland Downtown Square on April 7th. All teams must have one person present to register and receive competition packet at Calcutta. Teams are limited to two people. Hunt days will be April 8-9th and scoring will take place at Southern Outdoor Sports.</span><br />\n<span style="color:#333333\;">Details:</span></span></span>\n<ul>\n	<li><span style="font-size:12px\;"><span style="font-family:tahoma\;"><span style="color:#333333\;">Check-in will take place on the Headland Square at 5:30 &ndash\; 6:30 p.m. on Thursday April 7\, 2022. </span></span></span></li>\n	<li><span style="font-size:12px\;"><span style="font-family:tahoma\;"><span style="color:#333333\;">At least one team member is required to be present for check-in and Calcutta Thursday night. </span></span></span></li>\n	<li><span style="font-size:12px\;"><span style="font-family:tahoma\;"><span style="color:#333333\;">Additional competition categories will be open for registration at check-in.</span></span></span></li>\n	<li><span style="font-size:12px\;"><span style="font-family:tahoma\;"><span style="color:red\;">Entertainment District Rules will be in place Thursday evening if teams would like to patron one of our local establishments.</span></span></span></li>\n	<li><span style="font-size:12px\;"><span style="font-family:tahoma\;"><span style="color:#333333\;">Calcutta will be conducted after check-in dinner on Thursday night. </span></span></span></li>\n	<li><span style="font-size:12px\;"><span style="font-family:tahoma\;"><span style="color:#333333\;">All money </span><span style="color:red\;">(*CASH ONLY*) </span><span style="color:#333333\;">for Calcutta must be collected at Calcutta (See Rule 10).</span></span></span></li>\n	<li><span style="font-size:12px\;"><span style="font-family:tahoma\;"><span style="color:red\;">Event cards will be provided at Calcutta on Thursday night that must be used in video footage at harvest. (See Rule 7)</span></span></span></li>\n	<li><span style="font-size:12px\;"><span style="font-family:tahoma\;"><span style="color:#333333\;">Weigh-In is from 10am-12pm\, 4-6pm on Friday and Saturday from 10am-12pm at Southern Outdoor Sports located at 2126 Hartford Hwy\, Dothan\, AL.</span></span></span></li>\n	<li><span style="font-size:12px\;"><span style="font-family:tahoma\;"><span style="color:#333333\;">Guests are welcome to the Calcutta but must pay $20 for dinner on Thursday night. Please\, let us know before hand of any guest so we can put them on the list and have enough food.</span></span></span></li>\n</ul>\n<strong><span style="font-size:12px\;"><span style="font-family:tahoma\;"><span style="color:#333333\;">Rules: </span></span></span></strong>\n\n<ol>\n	<li><strong><span style="font-size:12px\;"><span style="font-family:tahoma\;"><span style="color:#333333\;">SAFETY FIRST</span></span></span></strong></li>\n	<li><strong><span style="font-size:12px\;"><span style="font-family:tahoma\;"><span style="color:#333333\;">Each team shall abide by the applicable state laws where hunting is conducted. If determined that a member or team has failed to abide by any law(s) in any aspect\, it shall be at the Committee&rsquo\;s discretion on whether to disqualify any member or team.</span></span></span></strong></li>\n	<li><strong><span style="font-size:12px\;"><span style="font-family:tahoma\;"><span style="color:#333333\;">No team shall be allowed to participate in the Tournament if fail to properly register. Failure to properly register will result in automatic disqualification.</span></span></span></strong></li>\n	<li><strong><span style="font-size:12px\;"><span style="font-family:tahoma\;"><span style="color:#333333\;">Each team can hunt on any property (any state) as privileged to do so but may only enter Eastern birds.</span></span></span></strong></li>\n	<li><strong><span style="font-size:12px\;"><span style="font-family:tahoma\;"><span style="color:#333333\;">Weigh-in is from 10am-12pm and 4-6 p.m. sharp on Friday and Saturday </span>10am-12pm<span style="color:#333333\;">\, April 8-9th\, 2022. NO EXCUSES FOR LATE ENTRY!</span></span></span></strong></li>\n	<li><strong><span style="font-size:12px\;"><span style="font-family:tahoma\;"><span style="color:#333333\;">Only turkeys harvested on Friday and Saturday\, April 8-9\, 2022\, can be entered for the Tournament. Failure to abide by this rule will result in automatic disqualification. <span style="background:yellow\;">The committee holds the right to disqualify any turkey that they have reason to suspect it has been killed previously.</span></span></span></span></strong></li>\n	<li><strong><span style="font-size:12px\;"><span style="font-family:tahoma\;"><span style="color:red\;">A card will be provided at the Check-in Dinner</span> that must be used after killing your bird on hunt days. <span style="background:yellow\;">You must take a short continuous video of you in place\, walking up to your bird on the ground\, putting the card next to the bird with your face in the video. Video footage must also include the beard and spurs. This video must be shown at weigh in to enter your bird. If you cannot provide a video\, then the bird doesn&rsquo\;t count. (Video does not have to include the kill shot).</span></span></span></strong></li>\n	<li><strong><span style="font-size:12px\;"><span style="font-family:tahoma\;">Each member is allowed to enter one (1) turkey per day. Turkey must be weighed-in on day of harvest.</span></span></strong></li>\n	<li><strong><span style="font-size:12px\;"><span style="font-family:tahoma\;">The Tournament will consist of a 1st Place\, 2nd Place\, and 3rd Place winner depending on the official NWTF scoring system. <span style="color:red\;">We will only score the longest strand of the longest beard. <span style="background:yellow\;">Multiple beards will not be scored</span> and multiple spurs on the same leg will not be scored for regular competition places (excludes longest beard\, spur categories). This will help ensure an old mature bird scores higher than a non-typical 2-year-old. Turkeys will be scored as presented. Any feature of a bird harvested not attached cannot be scored. </span>There will be no ties in tournament. Tie breaker will be largest spur. An official NWTF representative will score the birds and determine the winners at weigh-in. All scores are FINAL.</span></span></strong></li>\n	<li><strong><span style="font-size:12px\;"><span style="font-family:tahoma\;">Calcutta will be conducted at check-in located on the Square in Downtown Headland on Thursday\, April 7th. Money must be collected on-site <span style="color:red\;">(*CASH ONLY*). </span>Failure to pay money on-site will disqualify any person from participating in the Calcutta. Any person not registered in the Tournament may participate in the Calcutta. At registration\, each team will have the buy now option to buy their team for $150 before the Calcutta begins. If a team isn&rsquo\;t bought and they win the tournament\, then the winnings will go towards preparation for the next year&rsquo\;s tournament. Further details will be announced on site.</span></span></strong></li>\n	<li><strong><span style="font-size:12px\;"><span style="font-family:tahoma\;">In the event of a tie in the Calcutta\, the prize shall be evenly distributed between the winning teams.</span></span></strong></li>\n	<li><strong><span style="font-size:12px\;"><span style="font-family:tahoma\;">All money for Calcutta must be collected immediately after its conclusion.</span></span></strong></li>\n	<li><strong><span style="font-size:12px\;"><span style="font-family:tahoma\;">The tournament committee reserves the right to refuse the right to participate in future events if any team or member violates any of these rules\, meaning then that team or member may not be allowed back for next year&rsquo\;s tournament\, at the discretion of the Committee. In addition\, if determined that a member or team has failed to abide by any rules in any aspect\, it shall be at the Committee&rsquo\;s discretion on whether to disqualify any member or team at any time.</span></span></strong></li>\n	<li><strong><span style="font-size:12px\;"><span style="font-family:tahoma\;">The Committee reserves the right and discretion to apply\, amend\, or execute any of these rules as it deems reasonable and in the best interest of the Tournament.</span></span></strong></li>\n	<li><strong><span style="font-size:12px\;"><span style="font-family:tahoma\;">All registration and Calcutta fees are non-refundable.</span></span></strong></li>\n	<li><strong><span style="font-size:12px\;"><span style="font-family:tahoma\;">SHOW CLASS! </span></span></strong></li>\n	<li><strong><span style="font-size:12px\;"><span style="font-family:tahoma\;">HAVE FUN!</span></span></strong></li>\n</ol>\n
LOCATION:Wiregrass Turkey Rodeo Date: April 7-9th 2022 Check-in & Calcutta 4/7/22: Downtown Square in Headland Weigh-in and Scoring: Southern Outdoors Sports 2126 Hartford Hwy\, Dothan\, AL Guests are welcome to the Calcutta but must pay $20 for dinner on Thursday night. Please\, let us know before hand of any guest so we can put them on the list and have enough food. Schedule: Thursday April 7th Check-In 5:30pm - 6:30pm Dinner 6:30pm Calcutta 7:30pm Friday & Saturday April 8-9th Turkey Hunt Daybreak - 2:00pm Weigh-in Friday 10:00-12:00pm\, 4:00-6:00pm Weigh-in Saturday 10:00-12:00pm
UID:e.3076.138
SEQUENCE:3
DTSTAMP:20260423T024310Z
URL:https://business.headlandal.org/events/details/wiregrass-turkey-rodeo-138
END:VEVENT

END:VCALENDAR
